BEGIN:VCALENDAR
VERSION:2.0
PRODID:-//Intand Corporation//Tandem//EN
METHOD:PUBLISH
BEGIN:VEVENT
DTSTAMP:20260424T103210Z
DTSTART:20260429T223000Z
DTEND:20260429T233000Z
TRANSP:TRANSPARENT
PRIORITY:0
SUMMARY:56 BVB Cates
LOCATION:SPX Gym Court B
DESCRIPTION:Schools:\nSt. Pius X\n\nLocation:\nSPX Gym Court B\n\n
URL;VALUE=URI:https://stpiusx.tandem.co/index.php?type=view&action=event&i
 d=28499
CREATED:20260410T171705Z
LAST-MODIFIED:20260413T030951Z
UID:event_request-28499-stpiusx@intand.com
END:VEVENT
END:VCALENDAR
